BEGIN:VCALENDAR
VERSION:2.0
PRODID:-//The Acton Exchange - ECPv6.15.17//NONSGML v1.0//EN
CALSCALE:GREGORIAN
METHOD:PUBLISH
X-WR-CALNAME:The Acton Exchange
X-ORIGINAL-URL:https://jcv.actonexchange.org
X-WR-CALDESC:Events for The Acton Exchange
REFRESH-INTERVAL;VALUE=DURATION:PT1H
X-Robots-Tag:noindex
X-PUBLISHED-TTL:PT1H
BEGIN:VTIMEZONE
TZID:America/New_York
BEGIN:DAYLIGHT
TZOFFSETFROM:-0500
TZOFFSETTO:-0400
TZNAME:EDT
DTSTART:20240310T070000
END:DAYLIGHT
BEGIN:STANDARD
TZOFFSETFROM:-0400
TZOFFSETTO:-0500
TZNAME:EST
DTSTART:20241103T060000
END:STANDARD
BEGIN:DAYLIGHT
TZOFFSETFROM:-0500
TZOFFSETTO:-0400
TZNAME:EDT
DTSTART:20250309T070000
END:DAYLIGHT
BEGIN:STANDARD
TZOFFSETFROM:-0400
TZOFFSETTO:-0500
TZNAME:EST
DTSTART:20251102T060000
END:STANDARD
BEGIN:DAYLIGHT
TZOFFSETFROM:-0500
TZOFFSETTO:-0400
TZNAME:EDT
DTSTART:20260308T070000
END:DAYLIGHT
BEGIN:STANDARD
TZOFFSETFROM:-0400
TZOFFSETTO:-0500
TZNAME:EST
DTSTART:20261101T060000
END:STANDARD
END:VTIMEZONE
BEGIN:VEVENT
DTSTART;TZID=America/New_York:20250422T130000
DTEND;TZID=America/New_York:20250422T140000
DTSTAMP:20260421T094333
CREATED:20250415T215823Z
LAST-MODIFIED:20250415T215823Z
UID:10315-1745326800-1745330400@jcv.actonexchange.org
SUMMARY:Acton COA presents: A Journey Through the Roots of American Popular Music Live Performance
DESCRIPTION:This Council on Aging (COA) program blends live performance\, storytelling and visuals about the origins of blues\, rock and country music presented by singer and songwriter Jon Waterman. In the show\, Jon is joined by Li Waterman on bass. Fascinating characters and events that are part of the history and the role of music in our lives will be explored. Jon and Li’s programs are enthusiastically received in Acton. \nThis program is supported by a grant from the Acton-Boxborough Cultural Council\, a local agency\, which is supported by the Mass Cultural Council\, a state agency. \nOpen to all seniors/free
URL:https://jcv.actonexchange.org/event/acton-coa-presents-a-journey-through-the-roots-of-american-popular-music-live-performance/
LOCATION:Acton Senior Center\, 30 Sudbury Road Rear\, Acton\, MA\, 01720
ORGANIZER;CN="Acton Council on Aging":MAILTO:seniorcenter@actonma.gov
END:VEVENT
BEGIN:VEVENT
DTSTART;TZID=America/New_York:20250301T110000
DTEND;TZID=America/New_York:20250301T120000
DTSTAMP:20260421T094333
CREATED:20250211T135024Z
LAST-MODIFIED:20250211T135024Z
UID:9020-1740826800-1740830400@jcv.actonexchange.org
SUMMARY:Acton Clean Energy Home Tour #1: Heat Pumps in Action
DESCRIPTION:Think local! Despite huge federal cutbacks on environmental work and uncertainty about federal clean energy rebates\, the Mass Save program still offers great incentives on home electrification in Massachusetts. Are you thinking about heat pumps? Join Acton Clean Energy Coach David Martin as he shares how he has electrified his home\, from heating to the kitchen and the laundry room and beyond. \nSponsored by EnergizeActon.org as part of its 2025 monthly clean energy home tour series. More info and registration HERE.Or go to “Events” on our website\, EnergizeActon.org. \nSign up for location. \n\n\n—
URL:https://jcv.actonexchange.org/event/acton-clean-energy-home-tour-1-heat-pumps-in-action/
LOCATION:MA
END:VEVENT
BEGIN:VEVENT
DTSTART;TZID=America/New_York:20250301T110000
DTEND;TZID=America/New_York:20250301T120000
DTSTAMP:20260421T094333
CREATED:20250211T135024Z
LAST-MODIFIED:20250211T135024Z
UID:9020-1740826800-1740830400@jcv.actonexchange.org
SUMMARY:Acton Clean Energy Home Tour #1: Heat Pumps in Action
DESCRIPTION:Think local! Despite huge federal cutbacks on environmental work and uncertainty about federal clean energy rebates\, the Mass Save program still offers great incentives on home electrification in Massachusetts. Are you thinking about heat pumps? Join Acton Clean Energy Coach David Martin as he shares how he has electrified his home\, from heating to the kitchen and the laundry room and beyond. \nSponsored by EnergizeActon.org as part of its 2025 monthly clean energy home tour series. More info and registration HERE.Or go to “Events” on our website\, EnergizeActon.org. \nSign up for location. \n\n\n—
URL:https://jcv.actonexchange.org/event/acton-clean-energy-home-tour-1-heat-pumps-in-action/
LOCATION:MA
END:VEVENT
END:VCALENDAR