BEGIN:VCALENDAR
VERSION:2.0
PRODID:-//The Acton Exchange - ECPv6.15.17//NONSGML v1.0//EN
CALSCALE:GREGORIAN
METHOD:PUBLISH
X-ORIGINAL-URL:https://jcv.actonexchange.org
X-WR-CALDESC:Events for The Acton Exchange
REFRESH-INTERVAL;VALUE=DURATION:PT1H
X-Robots-Tag:noindex
X-PUBLISHED-TTL:PT1H
BEGIN:VTIMEZONE
TZID:America/New_York
BEGIN:DAYLIGHT
TZOFFSETFROM:-0500
TZOFFSETTO:-0400
TZNAME:EDT
DTSTART:20240310T070000
END:DAYLIGHT
BEGIN:STANDARD
TZOFFSETFROM:-0400
TZOFFSETTO:-0500
TZNAME:EST
DTSTART:20241103T060000
END:STANDARD
BEGIN:DAYLIGHT
TZOFFSETFROM:-0500
TZOFFSETTO:-0400
TZNAME:EDT
DTSTART:20250309T070000
END:DAYLIGHT
BEGIN:STANDARD
TZOFFSETFROM:-0400
TZOFFSETTO:-0500
TZNAME:EST
DTSTART:20251102T060000
END:STANDARD
BEGIN:DAYLIGHT
TZOFFSETFROM:-0500
TZOFFSETTO:-0400
TZNAME:EDT
DTSTART:20260308T070000
END:DAYLIGHT
BEGIN:STANDARD
TZOFFSETFROM:-0400
TZOFFSETTO:-0500
TZNAME:EST
DTSTART:20261101T060000
END:STANDARD
END:VTIMEZONE
BEGIN:VEVENT
DTSTART;TZID=America/New_York:20250611T133000
DTEND;TZID=America/New_York:20250611T143000
DTSTAMP:20260421T091852
CREATED:20250320T182746Z
LAST-MODIFIED:20250320T182746Z
UID:9926-1749648600-1749652200@jcv.actonexchange.org
SUMMARY:Library: Tech Help at West Acton Citizens' Library
DESCRIPTION:West Acton Citizens’ Library\, 21 Windsor Avenue\, Acton\, MA\, 01720\n\nSign up for a 15-minute 1:1 tech help session. \nPlease bring your device and any questions you might have! \nRegistration is required! \n1:30 slot: https://actonmemoriallibrary.assabetinteractive.com/calendar/tech-help-at-west-acton-citizens-library-1-30pm-slot-37/ \n1:45 slot: https://actonmemoriallibrary.assabetinteractive.com/calendar/tech-help-at-west-acton-citizens-library-1-45pm-slot-49/ \n2:00 slot: https://actonmemoriallibrary.assabetinteractive.com/calendar/tech-help-at-west-acton-citizens-library-2-00pm-slot-13/ \n2:15 slot: https://actonmemoriallibrary.assabetinteractive.com/calendar/tech-help-at-west-acton-citizens-library-2-15pm-slot-49/
URL:https://jcv.actonexchange.org/event/library-tech-help-at-west-acton-citizens-library-2/
LOCATION:West Acton Citizens’ Library\, 21 Windsor Avenue\, Acton\, 01720
END:VEVENT
END:VCALENDAR