BEGIN:VCALENDAR
VERSION:2.0
PRODID:-//The Acton Exchange - ECPv6.15.17//NONSGML v1.0//EN
CALSCALE:GREGORIAN
METHOD:PUBLISH
X-ORIGINAL-URL:https://jcv.actonexchange.org
X-WR-CALDESC:Events for The Acton Exchange
REFRESH-INTERVAL;VALUE=DURATION:PT1H
X-Robots-Tag:noindex
X-PUBLISHED-TTL:PT1H
BEGIN:VTIMEZONE
TZID:America/New_York
BEGIN:DAYLIGHT
TZOFFSETFROM:-0500
TZOFFSETTO:-0400
TZNAME:EDT
DTSTART:20240310T070000
END:DAYLIGHT
BEGIN:STANDARD
TZOFFSETFROM:-0400
TZOFFSETTO:-0500
TZNAME:EST
DTSTART:20241103T060000
END:STANDARD
BEGIN:DAYLIGHT
TZOFFSETFROM:-0500
TZOFFSETTO:-0400
TZNAME:EDT
DTSTART:20250309T070000
END:DAYLIGHT
BEGIN:STANDARD
TZOFFSETFROM:-0400
TZOFFSETTO:-0500
TZNAME:EST
DTSTART:20251102T060000
END:STANDARD
BEGIN:DAYLIGHT
TZOFFSETFROM:-0500
TZOFFSETTO:-0400
TZNAME:EDT
DTSTART:20260308T070000
END:DAYLIGHT
BEGIN:STANDARD
TZOFFSETFROM:-0400
TZOFFSETTO:-0500
TZNAME:EST
DTSTART:20261101T060000
END:STANDARD
END:VTIMEZONE
BEGIN:VEVENT
DTSTART;TZID=America/New_York:20250520T183000
DTEND;TZID=America/New_York:20250520T193000
DTSTAMP:20260421T233005
CREATED:20250331T140821Z
LAST-MODIFIED:20250331T140821Z
UID:10242-1747765800-1747769400@jcv.actonexchange.org
SUMMARY:Library: Acton Memorial Library Book Discussion Group
DESCRIPTION:Conference Room\, Acton Memorial Library\, 486 Main Street\, Acton\, MA\, 01720\nActon Memorial Library Book Discussion Group. Copies available at Acton Memorial Library\, first come first serve.  \n\nThis meeting’s book: The Demon of Unrest by Erik Larson \nClick here for a list future meeting’s books and more information about other book groups: https://tinyurl.com/3hd4pfyt \n 
URL:https://jcv.actonexchange.org/event/library-acton-memorial-library-book-discussion-group-3/
LOCATION:Acton Memorial Library\, 486 Main St.\, Acton\, MA\, 01720\, United States
END:VEVENT
BEGIN:VEVENT
DTSTART;TZID=America/New_York:20250520T190000
DTEND;TZID=America/New_York:20250520T203000
DTSTAMP:20260421T233005
CREATED:20250324T233443Z
LAST-MODIFIED:20250324T233443Z
UID:10019-1747767600-1747773000@jcv.actonexchange.org
SUMMARY:Introduction to the Pine Hawk Discovery
DESCRIPTION:Learn about Acton’s most significant archaeological discovery\, the Pine Hawk site in South Acton. The site was inhabited by Native Americans for over several thousand years and yielded a treasure trove of artifacts. Doug Halley was the Acton official most involved as the discovery of this site unfolded over 20 years ago. He will describe that process of discovery\, its significance\, and how the project activated an increased interest in historical preservation\, such as the Trail Through Time in North Acton. Doug also created an award-winning exhibit about Pine Hawk\, which can be seen today on the ground floor of the Acton Memorial Library. This program is presented with support from Acton Memorial Library and Freedom’s Way National Heritage Area. \nThis event is free and does not require registration. It will be recorded for future viewing at https://www.pinehawk.org/videos/. Questions? Email friends.of.pinehawk@gmail.com
URL:https://jcv.actonexchange.org/event/introduction-to-the-pine-hawk-discovery/
LOCATION:Acton Memorial Library\, 486 Main St.\, Acton\, MA\, 01720\, United States
ORGANIZER;CN="Friends of Pine Hawk":MAILTO:friends.of.pinehawk@gmail.com
END:VEVENT
END:VCALENDAR