BEGIN:VCALENDAR
VERSION:2.0
PRODID:-//The Acton Exchange - ECPv6.15.17//NONSGML v1.0//EN
CALSCALE:GREGORIAN
METHOD:PUBLISH
X-WR-CALNAME:The Acton Exchange
X-ORIGINAL-URL:https://jcv.actonexchange.org
X-WR-CALDESC:Events for The Acton Exchange
REFRESH-INTERVAL;VALUE=DURATION:PT1H
X-Robots-Tag:noindex
X-PUBLISHED-TTL:PT1H
BEGIN:VTIMEZONE
TZID:America/New_York
BEGIN:DAYLIGHT
TZOFFSETFROM:-0500
TZOFFSETTO:-0400
TZNAME:EDT
DTSTART:20240310T070000
END:DAYLIGHT
BEGIN:STANDARD
TZOFFSETFROM:-0400
TZOFFSETTO:-0500
TZNAME:EST
DTSTART:20241103T060000
END:STANDARD
BEGIN:DAYLIGHT
TZOFFSETFROM:-0500
TZOFFSETTO:-0400
TZNAME:EDT
DTSTART:20250309T070000
END:DAYLIGHT
BEGIN:STANDARD
TZOFFSETFROM:-0400
TZOFFSETTO:-0500
TZNAME:EST
DTSTART:20251102T060000
END:STANDARD
BEGIN:DAYLIGHT
TZOFFSETFROM:-0500
TZOFFSETTO:-0400
TZNAME:EDT
DTSTART:20260308T070000
END:DAYLIGHT
BEGIN:STANDARD
TZOFFSETFROM:-0400
TZOFFSETTO:-0500
TZNAME:EST
DTSTART:20261101T060000
END:STANDARD
END:VTIMEZONE
BEGIN:VEVENT
DTSTART;TZID=America/New_York:20250504T140000
DTEND;TZID=America/New_York:20250504T150000
DTSTAMP:20260421T195913
CREATED:20250320T201855Z
LAST-MODIFIED:20250320T201855Z
UID:9887-1746367200-1746370800@jcv.actonexchange.org
SUMMARY:Library: Winter Concert: Triology
DESCRIPTION:Location: 2nd Floor Piano | Acton Memorial Library | 486 Main Street\, Acton MA 01720 \n\nMixing Jazz and Latin in eclectic arrangements of old and new\, famous and obscure\, hot and cool\, Triology plays a wide variety of material with international influences. The members originate from three different continents and each brings their own unique experience to the music.Ranging from straight ahead swing to explorations of Latin rhythms and odd time signatures on Jazz tunes\, standards\, original compositions\, folk melodies\, and the occasional pop hit\, Triology puts its unique imprint on the music.\n\nBassist Tal Shalom-Kobi\, drummer Renato Malavasi\, and singer/pianist Reed Cournoyer formed Triology in 2018. They perform in both concert and club settings and bring something a little bit different to the Jazz trio format.
URL:https://jcv.actonexchange.org/event/library-winter-concert-triology/
LOCATION:Acton Memorial Library\, 486 Main St.\, Acton\, MA\, 01720\, United States
END:VEVENT
END:VCALENDAR